BEGIN:VCALENDAR
VERSION:2.0
PRODID:-//Bountiful - ECPv6.0.13//NONSGML v1.0//EN
CALSCALE:GREGORIAN
METHOD:PUBLISH
X-ORIGINAL-URL:https://bountifulmarkets.com
X-WR-CALDESC:Events for Bountiful
REFRESH-INTERVAL;VALUE=DURATION:PT1H
X-Robots-Tag:noindex
X-PUBLISHED-TTL:PT1H
BEGIN:VTIMEZONE
TZID:America/Edmonton
BEGIN:DAYLIGHT
TZOFFSETFROM:-0700
TZOFFSETTO:-0600
TZNAME:MDT
DTSTART:20250309T090000
END:DAYLIGHT
BEGIN:STANDARD
TZOFFSETFROM:-0600
TZOFFSETTO:-0700
TZNAME:MST
DTSTART:20251102T080000
END:STANDARD
END:VTIMEZONE
BEGIN:VEVENT
DTSTART;TZID=America/Edmonton:20250401T080000
DTEND;TZID=America/Edmonton:20250501T170000
DTSTAMP:20260419T161802
CREATED:20250306T183814Z
LAST-MODIFIED:20250416T201551Z
UID:10000841-1743494400-1746118800@bountifulmarkets.com
SUMMARY:Children's Activities
DESCRIPTION:Every Saturday & Sunday\, between 1 & 4 pm\, join us behind the stage for an interactive craft! We are all about creative expression\, so these activites vary every weekend!  🎨
URL:https://bountifulmarkets.com/event/childrens-activities/
LOCATION:Bountiful Farmers’ Market
ATTACH;FMTTYPE=image/jpeg:https://bountifulmarkets.com/app/uploads/2025/03/For-Web-2.jpg
END:VEVENT
BEGIN:VEVENT
DTSTART;TZID=America/Edmonton:20250401T100000
DTEND;TZID=America/Edmonton:20250501T160000
DTSTAMP:20260419T161802
CREATED:20250402T182950Z
LAST-MODIFIED:20250402T182950Z
UID:10000843-1743501600-1746115200@bountifulmarkets.com
SUMMARY:Balloon Artistry and Face Painting
DESCRIPTION:At Bountiful Farmers Market\, our talented balloon artists skillfully craft intricate balloon sculptures\, transforming simple balloons into works of art right before your eyes. Children gaze in wonder as animals\, flowers\, and fantastical creatures take shape\, while adults marvel at the creativity and precision of the balloon sculptures. With a flurry of twists and turns\, the balloon buskers captivate audiences of all ages\, adding an enchanting flair to the market atmosphere.\n\n\nCome join the fun at the Bountiful Farmers Market with our delightful face painting activities for kids! Talented artists bring imaginations to life\, transforming eager faces into vibrant works of art. From whimsical butterflies to fierce tigers\, every child gets a personalized masterpiece. It’s a joyful moment against the backdrop of bustling stalls\, where laughter and creativity abound.
URL:https://bountifulmarkets.com/event/balloon-artistry-and-face-painting/
LOCATION:Bountiful Farmers’ Market
ATTACH;FMTTYPE=image/jpeg:https://bountifulmarkets.com/app/uploads/2025/03/6.jpg
END:VEVENT
BEGIN:VEVENT
DTSTART;TZID=America/Edmonton:20250401T110000
DTEND;TZID=America/Edmonton:20250501T140000
DTSTAMP:20260419T161802
CREATED:20240726T173350Z
LAST-MODIFIED:20250427T171207Z
UID:10000812-1743505200-1746108000@bountifulmarkets.com
SUMMARY:April Musical Buskers
DESCRIPTION:Experience the vibrant sounds of the Market with our talented musical buskers! As you wander through the stalls filled with fresh produce and artisanal crafts\, you’ll be serenaded by a variety of musical performances. From soulful melodies to upbeat rhythms\, these buskers add an extra layer of charm to your market experience.
URL:https://bountifulmarkets.com/event/musical-buskers/
LOCATION:Bountiful Farmers’ Market
ATTACH;FMTTYPE=image/jpeg:https://bountifulmarkets.com/app/uploads/2024/07/Feb-2025-2.jpg
END:VEVENT
END:VCALENDAR