BEGIN:VCALENDAR
VERSION:2.0
PRODID:-//Bountiful - ECPv6.0.13//NONSGML v1.0//EN
CALSCALE:GREGORIAN
METHOD:PUBLISH
X-WR-CALNAME:Bountiful
X-ORIGINAL-URL:https://bountifulmarkets.com
X-WR-CALDESC:Events for Bountiful
REFRESH-INTERVAL;VALUE=DURATION:PT1H
X-Robots-Tag:noindex
X-PUBLISHED-TTL:PT1H
BEGIN:VTIMEZONE
TZID:America/Edmonton
BEGIN:DAYLIGHT
TZOFFSETFROM:-0700
TZOFFSETTO:-0600
TZNAME:MDT
DTSTART:20250309T090000
END:DAYLIGHT
BEGIN:STANDARD
TZOFFSETFROM:-0600
TZOFFSETTO:-0700
TZNAME:MST
DTSTART:20251102T080000
END:STANDARD
END:VTIMEZONE
BEGIN:VEVENT
DTSTART;TZID=America/Edmonton:20250501T080000
DTEND;TZID=America/Edmonton:20250601T170000
DTSTAMP:20260419T124652
CREATED:20250424T164047Z
LAST-MODIFIED:20250424T164047Z
UID:10000846-1746086400-1748797200@bountifulmarkets.com
SUMMARY:May Children's Activities
DESCRIPTION:Every Saturday & Sunday\, between 1 & 4 pm\, join us beside the Childrens’ Playground for an interactive craft! We are all about creative expression\, so these activites vary every weekend!  🎨
URL:https://bountifulmarkets.com/event/may-childrens-activities/
LOCATION:Bountiful Farmers’ Market
ATTACH;FMTTYPE=image/jpeg:https://bountifulmarkets.com/app/uploads/2025/04/For-Web-2.jpg
END:VEVENT
END:VCALENDAR