BEGIN:VCALENDAR
VERSION:2.0
PRODID:-//Bountiful - ECPv6.0.13//NONSGML v1.0//EN
CALSCALE:GREGORIAN
METHOD:PUBLISH
X-ORIGINAL-URL:https://bountifulmarkets.com
X-WR-CALDESC:Events for Bountiful
REFRESH-INTERVAL;VALUE=DURATION:PT1H
X-Robots-Tag:noindex
X-PUBLISHED-TTL:PT1H
BEGIN:VTIMEZONE
TZID:America/Edmonton
BEGIN:DAYLIGHT
TZOFFSETFROM:-0700
TZOFFSETTO:-0600
TZNAME:MDT
DTSTART:20250309T090000
END:DAYLIGHT
BEGIN:STANDARD
TZOFFSETFROM:-0600
TZOFFSETTO:-0700
TZNAME:MST
DTSTART:20251102T080000
END:STANDARD
END:VTIMEZONE
BEGIN:VEVENT
DTSTART;TZID=America/Edmonton:20250606T080000
DTEND;TZID=America/Edmonton:20250614T090000
DTSTAMP:20260419T125150
CREATED:20250605T175559Z
LAST-MODIFIED:20250605T175731Z
UID:10000855-1749196800-1749891600@bountifulmarkets.com
SUMMARY:Fathers' Day Giveaways!
DESCRIPTION:We’re thrilled to announce our Fathers’ Day Basket Giveaway\, featuring 5 Curated Bountiful Baskets!  Customers can enter from June 6th – 14th. \nHere’s your chance to celebrate Dad with lovingly curated baskets by Bountiful’s own local vendors. From artisanal treats to handcrafted goodies\, these baskets are packed with the best of our market’s offerings. \nWinners will be randomly selected and contacted on the morning of June 15th. Don’t miss out on this opportunity to bring a piece of the market home and find a new favourite local business! Good luck! 💗💖💞
URL:https://bountifulmarkets.com/event/fathers-day-giveaways/
LOCATION:Bountiful Farmers’ Market
ATTACH;FMTTYPE=image/jpeg:https://bountifulmarkets.com/app/uploads/2025/05/1.jpg
END:VEVENT
END:VCALENDAR