BEGIN:VCALENDAR
VERSION:2.0
PRODID:-//Bountiful - ECPv6.0.13//NONSGML v1.0//EN
CALSCALE:GREGORIAN
METHOD:PUBLISH
X-ORIGINAL-URL:https://bountifulmarkets.com
X-WR-CALDESC:Events for Bountiful
REFRESH-INTERVAL;VALUE=DURATION:PT1H
X-Robots-Tag:noindex
X-PUBLISHED-TTL:PT1H
BEGIN:VTIMEZONE
TZID:America/Edmonton
BEGIN:DAYLIGHT
TZOFFSETFROM:-0700
TZOFFSETTO:-0600
TZNAME:MDT
DTSTART:20250309T090000
END:DAYLIGHT
BEGIN:STANDARD
TZOFFSETFROM:-0600
TZOFFSETTO:-0700
TZNAME:MST
DTSTART:20251102T080000
END:STANDARD
END:VTIMEZONE
BEGIN:VEVENT
DTSTART;TZID=America/Edmonton:20250615T100000
DTEND;TZID=America/Edmonton:20250615T150000
DTSTAMP:20260419T130040
CREATED:20250528T171151Z
LAST-MODIFIED:20250605T180226Z
UID:10000850-1749981600-1749999600@bountifulmarkets.com
SUMMARY:Fathers' Day Photos with X Photobooth
DESCRIPTION:💗 Fathers’ Day Photos with X Photobooth at the Farmers’ Market 💗\n📸 Celebrate the Dads in your life this Fathers’ Day! Capture magical memories with your paternal figures on June 15th —Courtesy of X Photobooth! 🌸💗 \nBring your family\, friends\, and father figures for a memorable experience on June 15th from 10:00 AM to 3:00 PM. \nPhotos are first-come-first-served and are complimentary! \nWhile You’re Here:\n\nStock up on fresh\, local produce for your celebratory meals\nDiscover handmade gifts and artisan goods for the whole family\nWarm up with hot coffee and tea and all of your favourite seasonal treats\n\n📸 Make it a day to remember and support your local community at the same time. We look forward to making this Fathers’ Day memorable with you!
URL:https://bountifulmarkets.com/event/fathers-day-photos-with-x-photobooth/
LOCATION:Bountiful Farmers’ Market
ATTACH;FMTTYPE=image/jpeg:https://bountifulmarkets.com/app/uploads/2025/05/2.jpg
END:VEVENT
END:VCALENDAR