BEGIN:VCALENDAR
VERSION:2.0
PRODID:-//Bountiful - ECPv6.0.13//NONSGML v1.0//EN
CALSCALE:GREGORIAN
METHOD:PUBLISH
X-ORIGINAL-URL:https://bountifulmarkets.com
X-WR-CALDESC:Events for Bountiful
REFRESH-INTERVAL;VALUE=DURATION:PT1H
X-Robots-Tag:noindex
X-PUBLISHED-TTL:PT1H
BEGIN:VTIMEZONE
TZID:America/Edmonton
BEGIN:DAYLIGHT
TZOFFSETFROM:-0700
TZOFFSETTO:-0600
TZNAME:MDT
DTSTART:20250309T090000
END:DAYLIGHT
BEGIN:STANDARD
TZOFFSETFROM:-0600
TZOFFSETTO:-0700
TZNAME:MST
DTSTART:20251102T080000
END:STANDARD
END:VTIMEZONE
BEGIN:VEVENT
DTSTART;TZID=America/Edmonton:20250620T090000
DTEND;TZID=America/Edmonton:20250622T160000
DTSTAMP:20260419T125215
CREATED:20250529T170909Z
LAST-MODIFIED:20250604T163410Z
UID:10000851-1750410000-1750608000@bountifulmarkets.com
SUMMARY:Bountifuls 6th Birthday Bash
DESCRIPTION:Join us in celebrating Bountiful’s 6th anniversary! Swing by from the 20th to the 22nd for a festive gathering filled with cake\, balloons\, bouncy castles\, music\, and talented activity buskers! We’re also giving away 6 gift baskets this month. Enter to win by filling out and submitting the form above. Winners will be chosen by random on June 25th\, 2025. Must be 18+ to enter. One entry per person.
URL:https://bountifulmarkets.com/event/bountifuls-6th-birthday-bash/
LOCATION:Bountiful Farmers’ Market
ATTACH;FMTTYPE=image/jpeg:https://bountifulmarkets.com/app/uploads/2025/05/Bountifuls-5th-Birthday-1.jpg
END:VEVENT
END:VCALENDAR