BEGIN:VCALENDAR
VERSION:2.0
PRODID:-//Bountiful - ECPv6.0.13//NONSGML v1.0//EN
CALSCALE:GREGORIAN
METHOD:PUBLISH
X-ORIGINAL-URL:https://bountifulmarkets.com
X-WR-CALDESC:Events for Bountiful
REFRESH-INTERVAL;VALUE=DURATION:PT1H
X-Robots-Tag:noindex
X-PUBLISHED-TTL:PT1H
BEGIN:VTIMEZONE
TZID:America/Edmonton
BEGIN:DAYLIGHT
TZOFFSETFROM:-0700
TZOFFSETTO:-0600
TZNAME:MDT
DTSTART:20250309T090000
END:DAYLIGHT
BEGIN:STANDARD
TZOFFSETFROM:-0600
TZOFFSETTO:-0700
TZNAME:MST
DTSTART:20251102T080000
END:STANDARD
END:VTIMEZONE
BEGIN:VEVENT
DTSTART;TZID=America/Edmonton:20250801T100000
DTEND;TZID=America/Edmonton:20250831T160000
DTSTAMP:20260419T104027
CREATED:20250725T195446Z
LAST-MODIFIED:20250807T193442Z
UID:10000860-1754042400-1756656000@bountifulmarkets.com
SUMMARY:August Balloon Artistry and Face Painting
DESCRIPTION:At Bountiful Farmers Market\, our talented balloon artists skillfully craft intricate balloon sculptures\, transforming simple balloons into works of art right before your eyes. Children gaze in wonder as animals\, flowers\, and fantastical creatures take shape\, while adults marvel at the creativity and precision of the balloon sculptures. With a flurry of twists and turns\, the balloon buskers captivate audiences of all ages\, adding an enchanting flair to the market atmosphere.\n\n\nCome join the fun at the Bountiful Farmers Market with our delightful face painting activities for kids! Talented artists bring imaginations to life\, transforming eager faces into vibrant works of art. From whimsical butterflies to fierce tigers\, every child gets a personalized masterpiece. It’s a joyful moment against the backdrop of bustling stalls\, where laughter and creativity abound. \n  \n 
URL:https://bountifulmarkets.com/event/august-balloon-artistry-and-face-painting/
LOCATION:Bountiful Farmers’ Market
ATTACH;FMTTYPE=image/jpeg:https://bountifulmarkets.com/app/uploads/2025/07/1-1.jpg
END:VEVENT
BEGIN:VEVENT
DTSTART;TZID=America/Edmonton:20250801T100000
DTEND;TZID=America/Edmonton:20250831T160000
DTSTAMP:20260419T104027
CREATED:20250801T151622Z
LAST-MODIFIED:20251102T200114Z
UID:10000862-1754042400-1756656000@bountifulmarkets.com
SUMMARY:August Feature Gift Basket Giveaway
DESCRIPTION:We’re thrilled to announce our August Gift Basket Giveaway\, featuring 5 of Bountiful’s vendors!  Customers can enter from August 1st – 31st. \nHere’s your chance to win one of five incredible gift baskets\, each lovingly curated by one of Bountiful’s local vendor. From artisanal treats to handcrafted goodies\, these baskets are packed with the best of our market’s offerings. \nWinners will be randomly selected and contacted on September 3rd. Don’t miss out on this opportunity to bring a piece of the market home and find a new favourite local business! Good luck! 🌶️🪻🧀 \n  \n\n                \n                        \n                            Enter To Win\n                            Contest Entry\n                        \n                        First Name(Required) Last Name(Required) Phone Number(Required) Email(Required) Postal Code(Required) Age\n			\n					\n					18-24\n			\n			\n					\n					25-39\n			\n			\n					\n					40-59\n			\n			\n					\n					60+\n			How often do you shop at the market?\n			\n					\n					Every Weekend\n			\n			\n					\n					Twice Per Month\n			\n			\n					\n					Once Per Month\n			\n			\n					\n					Once Every 3 Months\n			\n			\n					\n					Once Every 6 Months\n			\n			\n					\n					Once Per Year\n			\n			\n					\n					Other\n			\nWhat social media platform\, if any\, do you use most?\n			\n					\n					Facebook\n			\n			\n					\n					Instagram\n			\n			\n					\n					TikTok\n			\n			\n					\n					X\n			\n			\n					\n					Other\n			\n			\n					\n					Other\n			All fields are required for valid entry. One entry per person\, per month. Duplicate email addresses will be removed from the draw. By entering your email\, you agree to subscribe to our weekly newsletter!\n								\n								I accept\n							All fields are required for valid entry. One entry per person\, per month. Duplicate email addresses will be removed from the draw. By entering your email\, you agree to subscribe to our weekly newsletter!
URL:https://bountifulmarkets.com/event/august-feature-gift-basket-giveaway/
LOCATION:Bountiful Farmers’ Market
CATEGORIES:Enter to Win
ATTACH;FMTTYPE=image/jpeg:https://bountifulmarkets.com/app/uploads/2025/08/LG-POSTER-August-Vendor-Giveaway-2025-scaled.jpg
END:VEVENT
BEGIN:VEVENT
DTSTART;TZID=America/Edmonton:20250801T110000
DTEND;TZID=America/Edmonton:20250831T160000
DTSTAMP:20260419T104027
CREATED:20250725T195318Z
LAST-MODIFIED:20250807T190051Z
UID:10000859-1754046000-1756656000@bountifulmarkets.com
SUMMARY:August Musical Buskers
DESCRIPTION:Experience the vibrant sounds of the Market with our talented musical buskers! As you wander through the stalls filled with fresh produce and artisanal crafts\, you’ll be serenaded by a variety of musical performances. From soulful melodies to upbeat rhythms\, these buskers add an extra layer of charm to your market experience.
URL:https://bountifulmarkets.com/event/august-musical-buskers/
LOCATION:Bountiful Farmers’ Market
ATTACH;FMTTYPE=image/jpeg:https://bountifulmarkets.com/app/uploads/2025/07/2-1.jpg
END:VEVENT
BEGIN:VEVENT
DTSTART;TZID=America/Edmonton:20250802T080000
DTEND;TZID=America/Edmonton:20250830T170000
DTSTAMP:20260419T104027
CREATED:20250725T200332Z
LAST-MODIFIED:20250725T200400Z
UID:10000861-1754121600-1756573200@bountifulmarkets.com
SUMMARY:Meet the Bakers\, Bakers & Growers of Bountiful Farmers' Market
DESCRIPTION:Join us every Saturday in August to hear the stories\, passions\, and inspirations behind your favourite market vendors—live on stage! \n\n\nSaturdays @ 12:30 PM – Food Hall \n\nSee you there!
URL:https://bountifulmarkets.com/event/meet-the-bakers-bakers-growers-of-bountiful-farmers-market/
LOCATION:Bountiful Farmers’ Market
ATTACH;FMTTYPE=image/jpeg:https://bountifulmarkets.com/app/uploads/2025/07/meet-the-makers-scaled.jpg
END:VEVENT
END:VCALENDAR